Package: crlmm Version: 1.64.0 Command: /home/biocbuild/R/R/bin/R CMD INSTALL crlmm StartedAt: 2025-01-30 20:26:09 -0000 (Thu, 30 Jan 2025) EndedAt: 2025-01-30 20:27:02 -0000 (Thu, 30 Jan 2025) EllapsedTime: 53.2 seconds RetCode: 0 Status: OK