Package: crisprViz Version: 1.8.0 Command: rm -rf crisprViz.buildbin-libdir && mkdir crisprViz.buildbin-libdir && F:\biocbuild\bbs-3.20-bioc\R\bin\R.exe CMD INSTALL --build --library=crisprViz.buildbin-libdir crisprViz_1.8.0.tar.gz StartedAt: 2025-01-31 08:27:37 -0500 (Fri, 31 Jan 2025) EndedAt: 2025-01-31 08:28:36 -0500 (Fri, 31 Jan 2025) EllapsedTime: 58.6 seconds RetCode: 0 Status: OK PackageFile: crisprViz_1.8.0.zip PackageFileSize: 747 KiB