Package: crisprViz Version: 1.10.0 Command: rm -rf crisprViz.buildbin-libdir && mkdir crisprViz.buildbin-libdir && /Users/biocbuild/BBS/utils/build-universal.sh crisprViz_1.10.0.tar.gz /Library/Frameworks/R.framework/Resources/bin/R crisprViz.buildbin-libdir StartedAt: 2025-04-29 16:15:38 -0400 (Tue, 29 Apr 2025) EndedAt: 2025-04-29 16:17:30 -0400 (Tue, 29 Apr 2025) EllapsedTime: 111.4 seconds RetCode: 0 Status: OK PackageFile: crisprViz_1.10.0.tgz PackageFileSize: 1.356 MiB