Package: crisprViz Version: 1.10.0 Command: rm -rf crisprViz.buildbin-libdir && mkdir crisprViz.buildbin-libdir && /Users/biocbuild/BBS/utils/build-universal.sh crisprViz_1.10.0.tar.gz /Library/Frameworks/R.framework/Resources/bin/R crisprViz.buildbin-libdir StartedAt: 2025-04-21 22:31:25 -0400 (Mon, 21 Apr 2025) EndedAt: 2025-04-21 22:31:47 -0400 (Mon, 21 Apr 2025) EllapsedTime: 22.5 seconds RetCode: 0 Status: OK PackageFile: crisprViz_1.10.0.tgz PackageFileSize: 1.355 MiB