Package: crisprViz Version: 1.8.0 Command: rm -rf crisprViz.buildbin-libdir && mkdir crisprViz.buildbin-libdir && /Users/biocbuild/BBS/utils/build-universal.sh crisprViz_1.8.0.tar.gz /Library/Frameworks/R.framework/Resources/bin/R crisprViz.buildbin-libdir StartedAt: 2025-02-01 14:30:42 -0500 (Sat, 01 Feb 2025) EndedAt: 2025-02-01 14:31:50 -0500 (Sat, 01 Feb 2025) EllapsedTime: 67.6 seconds RetCode: 0 Status: OK PackageFile: crisprViz_1.8.0.tgz PackageFileSize: 1.354 MiB