Package: crisprShiny Version: 1.2.0 Command: /home/biocbuild/R/R/bin/R CMD check --install=check:crisprShiny.install-out.txt --library=/home/biocbuild/R/R/site-library --no-vignettes --timings crisprShiny_1.2.0.tar.gz StartedAt: 2025-01-31 05:16:41 -0000 (Fri, 31 Jan 2025) EndedAt: 2025-01-31 05:25:30 -0000 (Fri, 31 Jan 2025) EllapsedTime: 528.4 seconds RetCode: 0 Status: OK CheckDir: crisprShiny.Rcheck Warnings: 0