Package: crisprShiny Version: 1.4.0 Command: E:\biocbuild\bbs-3.21-bioc\R\bin\R.exe CMD INSTALL crisprShiny StartedAt: 2025-08-14 16:59:36 -0400 (Thu, 14 Aug 2025) EndedAt: 2025-08-14 17:00:41 -0400 (Thu, 14 Aug 2025) EllapsedTime: 64.7 seconds RetCode: 0 Status: OK