Package: crisprShiny Version: 1.4.0 Command: /Library/Frameworks/R.framework/Resources/bin/R CMD build --keep-empty-dirs --no-resave-data crisprShiny StartedAt: 2025-05-12 18:47:42 -0400 (Mon, 12 May 2025) EndedAt: 2025-05-12 18:49:50 -0400 (Mon, 12 May 2025) EllapsedTime: 127.8 seconds RetCode: 0 Status: OK PackageFile: crisprShiny_1.4.0.tar.gz PackageFileSize: 1.581 MiB