Package: crisprShiny Version: 1.4.0 Command: /home/biocbuild/R/R/bin/R CMD build --keep-empty-dirs --no-resave-data crisprShiny StartedAt: 2025-05-15 23:50:24 -0000 (Thu, 15 May 2025) EndedAt: 2025-05-15 23:51:40 -0000 (Thu, 15 May 2025) EllapsedTime: 76.0 seconds RetCode: 0 Status: OK PackageFile: crisprShiny_1.4.0.tar.gz PackageFileSize: 1.581 MiB