Package: crisprShiny Version: 1.4.0 Command: /Library/Frameworks/R.framework/Resources/bin/R CMD INSTALL crisprShiny StartedAt: 2025-04-21 15:26:51 -0400 (Mon, 21 Apr 2025) EndedAt: 2025-04-21 15:27:14 -0400 (Mon, 21 Apr 2025) EllapsedTime: 22.9 seconds RetCode: 0 Status: OK