Package: crisprDesign Version: 1.8.0 Command: /home/biocbuild/R/R/bin/R CMD INSTALL crisprDesign StartedAt: 2025-01-30 20:36:20 -0000 (Thu, 30 Jan 2025) EndedAt: 2025-01-30 20:37:21 -0000 (Thu, 30 Jan 2025) EllapsedTime: 60.9 seconds RetCode: 0 Status: OK