Package: crisprDesign Version: 1.10.0 Command: chmod a+r crisprDesign -R && E:\biocbuild\bbs-3.21-bioc\R\bin\R.exe CMD build --keep-empty-dirs --no-resave-data crisprDesign StartedAt: 2025-08-14 18:17:41 -0400 (Thu, 14 Aug 2025) EndedAt: 2025-08-14 18:20:37 -0400 (Thu, 14 Aug 2025) EllapsedTime: 175.8 seconds RetCode: 0 Status: OK PackageFile: crisprDesign_1.10.0.tar.gz PackageFileSize: 2.609 MiB