Package: crisprDesign Version: 1.10.0 Maintainer: Jean-Philippe Fortin MaintainerEmail: fortin946 at gmail.com git_url: https://git.bioconductor.org/packages/crisprDesign git_branch: RELEASE_3_21 git_last_commit: 30df11a git_last_commit_date: 2025-04-15 12:53:58 -0400 (Tue, 15 Apr 2025)