Package: crisprBwa Version: 1.10.0 Command: /home/biocbuild/R/R/bin/R CMD build --keep-empty-dirs --no-resave-data crisprBwa StartedAt: 2025-01-30 22:54:03 -0000 (Thu, 30 Jan 2025) EndedAt: 2025-01-30 22:55:00 -0000 (Thu, 30 Jan 2025) EllapsedTime: 57.0 seconds RetCode: 0 Status: OK PackageFile: crisprBwa_1.10.0.tar.gz PackageFileSize: 425.9 KiB