Package: crisprBwa Version: 1.12.0 Command: /home/biocbuild/R/R/bin/R CMD build --keep-empty-dirs --no-resave-data crisprBwa StartedAt: 2025-10-13 23:55:32 -0000 (Mon, 13 Oct 2025) EndedAt: 2025-10-13 23:56:37 -0000 (Mon, 13 Oct 2025) EllapsedTime: 65.0 seconds RetCode: 0 Status: OK PackageFile: crisprBwa_1.12.0.tar.gz PackageFileSize: 425.9 KiB