Package: crisprBowtie Version: 1.10.0 Command: /home/biocbuild/bbs-3.20-bioc/R/bin/R CMD INSTALL crisprBowtie StartedAt: 2024-11-19 16:07:11 -0500 (Tue, 19 Nov 2024) EndedAt: 2024-11-19 16:07:39 -0500 (Tue, 19 Nov 2024) EllapsedTime: 28.6 seconds RetCode: 0 Status: OK