Package: crisprBowtie Version: 1.10.0 Command: F:\biocbuild\bbs-3.20-bioc\R\bin\R.exe CMD check --no-multiarch --install=check:crisprBowtie.install-out.txt --library=F:\biocbuild\bbs-3.20-bioc\R\library --no-vignettes --timings crisprBowtie_1.10.0.tar.gz StartedAt: 2025-01-31 00:54:36 -0500 (Fri, 31 Jan 2025) EndedAt: 2025-01-31 00:59:07 -0500 (Fri, 31 Jan 2025) EllapsedTime: 270.6 seconds RetCode: 0 Status: OK CheckDir: crisprBowtie.Rcheck Warnings: 0