Package: crisprBowtie Version: 1.10.0 Command: chmod a+r crisprBowtie -R && F:\biocbuild\bbs-3.20-bioc\R\bin\R.exe CMD build --keep-empty-dirs --no-resave-data crisprBowtie StartedAt: 2025-01-30 18:09:35 -0500 (Thu, 30 Jan 2025) EndedAt: 2025-01-30 18:10:35 -0500 (Thu, 30 Jan 2025) EllapsedTime: 59.9 seconds RetCode: 0 Status: OK PackageFile: crisprBowtie_1.10.0.tar.gz PackageFileSize: 319.5 KiB