Package: crisprBowtie Version: 1.12.0 Command: /Library/Frameworks/R.framework/Resources/bin/R CMD build --keep-empty-dirs --no-resave-data crisprBowtie StartedAt: 2025-04-21 16:25:30 -0400 (Mon, 21 Apr 2025) EndedAt: 2025-04-21 16:26:18 -0400 (Mon, 21 Apr 2025) EllapsedTime: 48.0 seconds RetCode: 0 Status: OK PackageFile: crisprBowtie_1.12.0.tar.gz PackageFileSize: 319.2 KiB