Package: crisprBowtie Version: 1.12.0 Command: rm -rf crisprBowtie.buildbin-libdir && mkdir crisprBowtie.buildbin-libdir && /Users/biocbuild/BBS/utils/build-universal.sh crisprBowtie_1.12.0.tar.gz /Library/Frameworks/R.framework/Resources/bin/R crisprBowtie.buildbin-libdir StartedAt: 2025-04-22 00:40:16 -0400 (Tue, 22 Apr 2025) EndedAt: 2025-04-22 00:41:03 -0400 (Tue, 22 Apr 2025) EllapsedTime: 47.1 seconds RetCode: 0 Status: OK PackageFile: crisprBowtie_1.12.0.tgz PackageFileSize: 335.2 KiB