Package: crisprBowtie Version: 1.10.0 Command: /home/biocbuild/R/R/bin/R CMD INSTALL crisprBowtie StartedAt: 2024-11-19 20:49:54 -0000 (Tue, 19 Nov 2024) EndedAt: 2024-11-19 20:50:41 -0000 (Tue, 19 Nov 2024) EllapsedTime: 47.3 seconds RetCode: 0 Status: OK