Package: crisprBowtie Version: 1.12.0 Command: rm -rf crisprBowtie.buildbin-libdir && mkdir crisprBowtie.buildbin-libdir && /Users/biocbuild/BBS/utils/build-universal.sh crisprBowtie_1.12.0.tar.gz /Library/Frameworks/R.framework/Resources/bin/R crisprBowtie.buildbin-libdir StartedAt: 2025-04-21 22:31:17 -0400 (Mon, 21 Apr 2025) EndedAt: 2025-04-21 22:31:32 -0400 (Mon, 21 Apr 2025) EllapsedTime: 14.3 seconds RetCode: 0 Status: OK PackageFile: crisprBowtie_1.12.0.tgz PackageFileSize: 335.4 KiB