Package: crisprBase Version: 1.10.0 Command: /home/biocbuild/R/R/bin/R CMD INSTALL crisprBase StartedAt: 2025-01-30 20:16:34 -0000 (Thu, 30 Jan 2025) EndedAt: 2025-01-30 20:16:54 -0000 (Thu, 30 Jan 2025) EllapsedTime: 19.3 seconds RetCode: 0 Status: OK