Package: crisprBase Version: 1.10.0 Command: /home/biocbuild/R/R/bin/R CMD build --keep-empty-dirs --no-resave-data crisprBase StartedAt: 2025-01-30 22:53:54 -0000 (Thu, 30 Jan 2025) EndedAt: 2025-01-30 22:54:24 -0000 (Thu, 30 Jan 2025) EllapsedTime: 30.0 seconds RetCode: 0 Status: OK PackageFile: crisprBase_1.10.0.tar.gz PackageFileSize: 1.76 MiB