Package: crisprBase Version: 1.10.0 Command: /Library/Frameworks/R.framework/Resources/bin/R CMD build --keep-empty-dirs --no-resave-data crisprBase StartedAt: 2024-12-19 21:33:43 -0500 (Thu, 19 Dec 2024) EndedAt: 2024-12-19 21:34:14 -0500 (Thu, 19 Dec 2024) EllapsedTime: 30.3 seconds RetCode: 0 Status: OK PackageFile: crisprBase_1.10.0.tar.gz PackageFileSize: 1.737 MiB