Package: covEB Version: 1.34.0 Command: /Library/Frameworks/R.framework/Resources/bin/R CMD build --keep-empty-dirs --no-resave-data covEB StartedAt: 2025-04-21 16:25:06 -0400 (Mon, 21 Apr 2025) EndedAt: 2025-04-21 16:25:27 -0400 (Mon, 21 Apr 2025) EllapsedTime: 20.6 seconds RetCode: 0 Status: OK PackageFile: covEB_1.34.0.tar.gz PackageFileSize: 114.7 KiB