Package: covEB Version: 1.34.0 Command: rm -rf covEB.buildbin-libdir && mkdir covEB.buildbin-libdir && /Users/biocbuild/BBS/utils/build-universal.sh covEB_1.34.0.tar.gz /Library/Frameworks/R.framework/Resources/bin/R covEB.buildbin-libdir StartedAt: 2025-04-22 00:40:06 -0400 (Tue, 22 Apr 2025) EndedAt: 2025-04-22 00:40:19 -0400 (Tue, 22 Apr 2025) EllapsedTime: 12.6 seconds RetCode: 0 Status: OK PackageFile: covEB_1.34.0.tgz PackageFileSize: 149.6 KiB