Package: countsimQC Version: 1.24.0 Command: /home/biocbuild/R/R/bin/R CMD check --install=check:countsimQC.install-out.txt --library=/home/biocbuild/R/R/site-library --no-vignettes --timings countsimQC_1.24.0.tar.gz StartedAt: 2025-01-31 05:13:59 -0000 (Fri, 31 Jan 2025) EndedAt: 2025-01-31 05:22:46 -0000 (Fri, 31 Jan 2025) EllapsedTime: 526.4 seconds RetCode: 0 Status: OK CheckDir: countsimQC.Rcheck Warnings: 0