Package: countsimQC Version: 1.26.0 Maintainer: Charlotte Soneson MaintainerEmail: charlottesoneson at gmail.com git_url: https://git.bioconductor.org/packages/countsimQC git_branch: RELEASE_3_21 git_last_commit: 88022ec git_last_commit_date: 2025-04-15 11:37:37 -0400 (Tue, 15 Apr 2025)