Package: cosmosR Version: 1.16.0 Command: /Library/Frameworks/R.framework/Resources/bin/R CMD INSTALL cosmosR StartedAt: 2025-05-08 15:46:35 -0400 (Thu, 08 May 2025) EndedAt: 2025-05-08 15:46:44 -0400 (Thu, 08 May 2025) EllapsedTime: 9.2 seconds RetCode: 0 Status: OK