Package: cosmosR Version: 1.16.0 Maintainer: Attila Gabor MaintainerEmail: attila.gabor at uni-heidelberg.de git_url: https://git.bioconductor.org/packages/cosmosR git_branch: RELEASE_3_21 git_last_commit: c5fbdd3 git_last_commit_date: 2025-04-15 12:30:23 -0400 (Tue, 15 Apr 2025)