Package: cosmiq Version: 1.42.0 Command: /Library/Frameworks/R.framework/Resources/bin/R CMD INSTALL cosmiq StartedAt: 2025-05-01 16:14:48 -0400 (Thu, 01 May 2025) EndedAt: 2025-05-01 16:14:49 -0400 (Thu, 01 May 2025) EllapsedTime: 1.1 seconds RetCode: 1 Status: ERROR