############################################################################## ############################################################################## ### ### Running command: ### ### /Library/Frameworks/R.framework/Resources/bin/R CMD INSTALL cosmiq ### ############################################################################## ############################################################################## * installing to library ‘/Library/Frameworks/R.framework/Versions/4.5-x86_64/Resources/library’ ERROR: dependencies ‘xcms’, ‘faahKO’ are not available for package ‘cosmiq’ Perhaps try a variation of: install.packages(c('xcms', 'faahKO')) * removing ‘/Library/Frameworks/R.framework/Versions/4.5-x86_64/Resources/library/cosmiq’