Package: cosmiq Version: 1.41.0 Command: /Library/Frameworks/R.framework/Resources/bin/R CMD check --install=check:cosmiq.install-out.txt --library=/Library/Frameworks/R.framework/Resources/library --no-vignettes --timings cosmiq_1.41.0.tar.gz StartedAt: 2025-04-09 19:57:00 -0400 (Wed, 09 Apr 2025) EndedAt: 2025-04-09 20:02:38 -0400 (Wed, 09 Apr 2025) EllapsedTime: 338.2 seconds RetCode: 0 Status: OK CheckDir: cosmiq.Rcheck Warnings: 0