Package: cosmiq Version: 1.41.0 Command: rm -rf cosmiq.buildbin-libdir && mkdir cosmiq.buildbin-libdir && /Users/biocbuild/BBS/utils/build-universal.sh cosmiq_1.41.0.tar.gz /Library/Frameworks/R.framework/Resources/bin/R cosmiq.buildbin-libdir StartedAt: 2025-04-10 00:50:05 -0400 (Thu, 10 Apr 2025) EndedAt: 2025-04-10 00:51:02 -0400 (Thu, 10 Apr 2025) EllapsedTime: 57.4 seconds RetCode: 0 Status: OK PackageFile: cosmiq_1.41.0.tgz PackageFileSize: 291.4 KiB