Package: cosmiq Version: 1.42.0 Command: /Library/Frameworks/R.framework/Resources/bin/R CMD INSTALL cosmiq StartedAt: 2025-04-21 15:23:31 -0400 (Mon, 21 Apr 2025) EndedAt: 2025-04-21 15:23:32 -0400 (Mon, 21 Apr 2025) EllapsedTime: 1.0 seconds RetCode: 1 Status: ERROR