Package: corral Version: 1.16.0 Command: /Library/Frameworks/R.framework/Resources/bin/R CMD INSTALL corral StartedAt: 2025-01-30 15:22:09 -0500 (Thu, 30 Jan 2025) EndedAt: 2025-01-30 15:23:08 -0500 (Thu, 30 Jan 2025) EllapsedTime: 58.5 seconds RetCode: 0 Status: OK