Package: corral Version: 1.18.0 Command: /Library/Frameworks/R.framework/Resources/bin/R CMD build --keep-empty-dirs --no-resave-data corral StartedAt: 2025-10-02 18:08:00 -0400 (Thu, 02 Oct 2025) EndedAt: 2025-10-02 18:37:54 -0400 (Thu, 02 Oct 2025) EllapsedTime: 1794.6 seconds RetCode: 1 Status: ERROR PackageFile: None PackageFileSize: NA