Package: corral Version: 1.18.0 Command: /Library/Frameworks/R.framework/Resources/bin/R CMD build --keep-empty-dirs --no-resave-data corral StartedAt: 2025-04-21 16:24:19 -0400 (Mon, 21 Apr 2025) EndedAt: 2025-04-21 16:37:19 -0400 (Mon, 21 Apr 2025) EllapsedTime: 780.5 seconds RetCode: 0 Status: OK PackageFile: corral_1.18.0.tar.gz PackageFileSize: 2.075 MiB