Package: corral Version: 1.20.0 Command: rm -rf corral.buildbin-libdir && mkdir corral.buildbin-libdir && /Users/biocbuild/BBS/utils/build-universal.sh corral_1.20.0.tar.gz /Library/Frameworks/R.framework/Resources/bin/R corral.buildbin-libdir StartedAt: 2025-11-01 01:28:43 -0400 (Sat, 01 Nov 2025) EndedAt: 2025-11-01 01:29:24 -0400 (Sat, 01 Nov 2025) EllapsedTime: 40.3 seconds RetCode: 0 Status: OK PackageFile: corral_1.20.0.tgz PackageFileSize: 1.804 MiB