Package: corral Version: 1.18.0 Command: /home/biocbuild/R/R/bin/R CMD check --install=check:corral.install-out.txt --library=/home/biocbuild/R/R/site-library --no-vignettes --timings corral_1.18.0.tar.gz StartedAt: 2025-05-06 07:20:57 -0000 (Tue, 06 May 2025) EndedAt: 2025-05-06 07:28:38 -0000 (Tue, 06 May 2025) EllapsedTime: 461.3 seconds RetCode: 0 Status: OK CheckDir: corral.Rcheck Warnings: 0