Package: corral Version: 1.18.0 Command: /home/biocbuild/R/R/bin/R CMD build --keep-empty-dirs --no-resave-data corral StartedAt: 2025-05-05 23:49:28 -0000 (Mon, 05 May 2025) EndedAt: 2025-05-06 00:16:23 -0000 (Tue, 06 May 2025) EllapsedTime: 1615.1 seconds RetCode: 0 Status: OK PackageFile: corral_1.18.0.tar.gz PackageFileSize: 2.099 MiB