Package: corral Version: 1.18.0 Command: /Library/Frameworks/R.framework/Resources/bin/R CMD check --install=check:corral.install-out.txt --library=/Library/Frameworks/R.framework/Resources/library --no-vignettes --timings corral_1.18.0.tar.gz StartedAt: 2025-04-29 03:46:25 -0400 (Tue, 29 Apr 2025) EndedAt: 2025-04-29 03:48:51 -0400 (Tue, 29 Apr 2025) EllapsedTime: 145.5 seconds RetCode: 0 Status: OK CheckDir: corral.Rcheck Warnings: 0