Package: corral Version: 1.18.0 Command: rm -rf corral.buildbin-libdir && mkdir corral.buildbin-libdir && /Users/biocbuild/BBS/utils/build-universal.sh corral_1.18.0.tar.gz /Library/Frameworks/R.framework/Resources/bin/R corral.buildbin-libdir StartedAt: 2025-04-29 12:25:22 -0400 (Tue, 29 Apr 2025) EndedAt: 2025-04-29 12:25:34 -0400 (Tue, 29 Apr 2025) EllapsedTime: 12.1 seconds RetCode: 0 Status: OK PackageFile: corral_1.18.0.tgz PackageFileSize: 1.801 MiB