Package: convert Version: 1.82.0 Command: /home/biocbuild/R/R/bin/R CMD INSTALL convert StartedAt: 2025-01-30 20:10:38 -0000 (Thu, 30 Jan 2025) EndedAt: 2025-01-30 20:10:43 -0000 (Thu, 30 Jan 2025) EllapsedTime: 5.3 seconds RetCode: 0 Status: OK