Package: convert Version: 1.84.0 Command: /home/biocbuild/bbs-3.21-bioc/R/bin/R CMD INSTALL convert StartedAt: 2025-10-01 15:14:25 -0400 (Wed, 01 Oct 2025) EndedAt: 2025-10-01 15:14:29 -0400 (Wed, 01 Oct 2025) EllapsedTime: 4.1 seconds RetCode: 0 Status: OK