Package: conumee Version: 1.42.0 Command: /Library/Frameworks/R.framework/Resources/bin/R CMD build --keep-empty-dirs --no-resave-data conumee StartedAt: 2025-05-08 21:39:24 -0400 (Thu, 08 May 2025) EndedAt: 2025-05-08 21:48:37 -0400 (Thu, 08 May 2025) EllapsedTime: 553.4 seconds RetCode: 0 Status: OK PackageFile: conumee_1.42.0.tar.gz PackageFileSize: 1.782 MiB