Package: conumee Version: 1.42.0 Command: rm -rf conumee.buildbin-libdir && mkdir conumee.buildbin-libdir && /Users/biocbuild/BBS/utils/build-universal.sh conumee_1.42.0.tar.gz /Library/Frameworks/R.framework/Resources/bin/R conumee.buildbin-libdir StartedAt: 2025-05-10 14:39:36 -0400 (Sat, 10 May 2025) EndedAt: 2025-05-10 14:45:04 -0400 (Sat, 10 May 2025) EllapsedTime: 328.0 seconds RetCode: 0 Status: OK PackageFile: conumee_1.42.0.tgz PackageFileSize: 2.128 MiB