Package: consensusOV Version: 1.30.0 Command: rm -rf consensusOV.buildbin-libdir && mkdir consensusOV.buildbin-libdir && /Users/biocbuild/BBS/utils/build-universal.sh consensusOV_1.30.0.tar.gz /Library/Frameworks/R.framework/Resources/bin/R consensusOV.buildbin-libdir StartedAt: 2025-10-15 17:59:07 -0400 (Wed, 15 Oct 2025) EndedAt: 2025-10-15 18:00:24 -0400 (Wed, 15 Oct 2025) EllapsedTime: 77.3 seconds RetCode: 0 Status: OK PackageFile: consensusOV_1.30.0.tgz PackageFileSize: 4.521 MiB