Package: consensus Version: 1.24.0 Command: /home/biocbuild/R/R/bin/R CMD build --keep-empty-dirs --no-resave-data consensus StartedAt: 2025-01-30 22:48:48 -0000 (Thu, 30 Jan 2025) EndedAt: 2025-01-30 22:48:55 -0000 (Thu, 30 Jan 2025) EllapsedTime: 7.0 seconds RetCode: 0 Status: OK PackageFile: consensus_1.24.0.tar.gz PackageFileSize: 964 KiB